BEGIN:VCALENDAR
VERSION:2.0
PRODID:-//Tukios.com/
BEGIN:VEVENT
UID:dd7889a5-a072-41b5-a7fb-bb570bcf94cf@www.bowmanfuneral.com
DTSTAMP:20260421T014306Z
DTSTART:20260425T170000Z
DTEND:20260425T180000Z
SUMMARY:Funeral Service
DESCRIPTION:
URL:https://www.bowmanfuneral.com/obituaries/karen-howard
LOCATION:The Church of Jesus Christ of Latter-Day Saint 1950 South Locust 
	Grove Road  Meridian ID 83642
GEO:43.5871426;-116.3730481
END:VEVENT
END:VCALENDAR