BEGIN:VCALENDAR
VERSION:2.0
PRODID:-//Tukios.com/
BEGIN:VEVENT
UID:354d0fff-9845-46f4-aa06-91a57a2f1f86@www.bowmanfuneral.com
DTSTAMP:20260425T023601Z
DTSTART:20260502T213000Z
DTEND:20260502T223000Z
SUMMARY:Memorial Service
DESCRIPTION:
URL:https://www.bowmanfuneral.com/obituaries/jack-foster
LOCATION:Lifespring Christian Church 174 N Star Rd  Star ID 83669
GEO:43.6936379;-116.4923892
END:VEVENT
END:VCALENDAR