BEGIN:VCALENDAR
VERSION:2.0
PRODID:-//Tukios.com/
BEGIN:VEVENT
UID:5010b30e-2281-406a-a2e4-863c8859c6ee@www.bowmanfuneral.com
DTSTAMP:20260419T220916Z
DTSTART:20260420T193000Z
DTEND:20260420T203000Z
SUMMARY:Memorial Service
DESCRIPTION:
URL:https://www.bowmanfuneral.com/obituaries/esther-kevan
LOCATION:Cloverdale Church of God 3755 S Cloverdale Rd  Boise ID 83709
GEO:43.5678397;-116.3353428
END:VEVENT
END:VCALENDAR