BEGIN:VCALENDAR
VERSION:2.0
PRODID:-//Tukios.com/
BEGIN:VEVENT
UID:cf586251-581a-41a1-a22e-6551c26bf2b2@www.bowmanfuneral.com
DTSTAMP:20260420T231609Z
DTSTART:20260423T200000Z
DTEND:20260423T210000Z
SUMMARY:Funeral Service
DESCRIPTION:
URL:https://www.bowmanfuneral.com/obituaries/douglas-richards
LOCATION:Eagle Christian Church 100 South Short Lane  Eagle ID 83616
GEO:43.6886102;-116.4516927
END:VEVENT
END:VCALENDAR