BEGIN:VCALENDAR
VERSION:2.0
PRODID:-//Tukios.com/
BEGIN:VEVENT
UID:0105990a-2005-4c59-8659-4f49df3ee662@www.bowmanfuneral.com
DTSTAMP:20260424T021210Z
DTSTART:20260429T170000Z
DTEND:20260429T180000Z
SUMMARY:Graveside Service
DESCRIPTION:
URL:https://www.bowmanfuneral.com/obituaries/benjamin-fauth
LOCATION: 895 E Franklin Rd  Meridian ID 83642
GEO:43.6022523;-116.3818253
END:VEVENT
END:VCALENDAR