BEGIN:VCALENDAR
VERSION:2.0
PRODID:-//Tukios.com/
BEGIN:VEVENT
UID:4f98a017-a039-444d-9b40-5d23903eef24@www.bowmanfuneral.com
DTSTAMP:20260424T021815Z
DTSTART:20260429T000000Z
DTEND:20260429T020000Z
SUMMARY:Viewing
DESCRIPTION:
URL:https://www.bowmanfuneral.com/obituaries/benjamin-fauth
LOCATION: 10254 W. Carlton Bay Drive  Garden City ID 83714
GEO:43.6803284;-116.3092954
END:VEVENT
END:VCALENDAR