BEGIN:VCALENDAR
VERSION:2.0
PRODID:-//Tukios.com/
BEGIN:VEVENT
UID:33ae09fa-00f2-4918-a64d-1db8ddd80dbe@www.bowmanfuneral.com
DTSTAMP:20260425T024200Z
DTSTART:20260515T163000Z
DTEND:20260515T173000Z
SUMMARY:Celebration of Life
DESCRIPTION:A Celebration of Life will be held on May 15, 2026, at 10:30 
	AM at Hope Lutheran in Eagle, Idaho.
URL:https://www.bowmanfuneral.com/obituaries/angela-angie-peterson
LOCATION:Hope Lutheran Church ELCA 331 N Linder Rd  Eagle ID 83616
GEO:43.6948079;-116.4142657
END:VEVENT
END:VCALENDAR